BEGIN:VCALENDAR
VERSION:2.0
PRODID:-//HERMAN MARSHALL - ECPv6.15.20//NONSGML v1.0//EN
CALSCALE:GREGORIAN
METHOD:PUBLISH
X-WR-CALNAME:HERMAN MARSHALL
X-ORIGINAL-URL:https://hermanmarshall.com
X-WR-CALDESC:Events for HERMAN MARSHALL
REFRESH-INTERVAL;VALUE=DURATION:PT1H
X-Robots-Tag:noindex
X-PUBLISHED-TTL:PT1H
BEGIN:VTIMEZONE
TZID:UTC
BEGIN:STANDARD
TZOFFSETFROM:+0000
TZOFFSETTO:+0000
TZNAME:UTC
DTSTART:20230101T000000
END:STANDARD
END:VTIMEZONE
BEGIN:VEVENT
DTSTART;TZID=UTC:20240911T173000
DTEND;TZID=UTC:20240911T193000
DTSTAMP:20260420T045747
CREATED:20240827T175514Z
LAST-MODIFIED:20240827T175514Z
UID:925-1726075800-1726083000@hermanmarshall.com
SUMMARY:Master Network Event
DESCRIPTION:
URL:https://hermanmarshall.com/event/master-network-event/
END:VEVENT
END:VCALENDAR